BEGIN:VCALENDAR
VERSION:2.0
PRODID:icalendar-ruby
CALSCALE:GREGORIAN
METHOD:PUBLISH
BEGIN:VEVENT
DTSTAMP:20260422T080608Z
UID:9-268291@manormemorialumc.org
DTSTART:20261101T160000Z
DTEND:20261101T170000Z
CLASS:PUBLIC
CREATED:20260421T213624
DESCRIPTION:Traditional Service
LAST-MODIFIED:20260421T213624
LOCATION:Sanctuary
SUMMARY:Traditional Service 
URL;VALUE=URI:https://www.manormemorialumc.org/events/traditional-service/2
 026-11-01
ATTACH;FILENAME=service.jpg;FMTTYPE=image/jpeg:https://dq5pwpg1q8ru0.cloudf
 ront.net/2025/11/15/17/36/04/2fbc4201-fc9a-4b1b-a061-ab98e840b57a/service.
 jpg
END:VEVENT
END:VCALENDAR
