BEGIN:VCALENDAR
VERSION:2.0
PRODID:icalendar-ruby
CALSCALE:GREGORIAN
METHOD:PUBLISH
BEGIN:VEVENT
DTSTAMP:20260421T234043Z
UID:8-268127@manormemorialumc.org
DTSTART:20260927T124500Z
DTEND:20260927T134500Z
CLASS:PUBLIC
CREATED:20260421T185805
DESCRIPTION:
LAST-MODIFIED:20260421T185805
LOCATION:Farrow Hall 
SUMMARY:Early Service 
URL;VALUE=URI:https://www.manormemorialumc.org/events/early-service/2026-09
 -27
ATTACH;FILENAME=early-service-farrow-hall.jpg;FMTTYPE=image/jpeg:https://dq
 5pwpg1q8ru0.cloudfront.net/2025/11/15/17/34/33/b9194139-f5cb-4214-a03f-584
 ea92c10ad/early-service-farrow-hall.jpg
END:VEVENT
END:VCALENDAR
